BEGIN:VCALENDAR
METHOD:PUBLISH
VERSION:2.0
PRODID:-//Eventilla iCal Syndication//NONSGML Liana//EN
BEGIN:VEVENT
UID:9lqNz@eventilla.com
DTSTAMP:20260513T133000Z
DTSTART:20260513T133000Z
DTEND:20260513T160000Z
SUMMARY:Viesti x Ydinviesti: Timanttista urapuhetta!
DESCRIPTION:Hei opiskelija\, tervetuloa Ydinviesti ry:n ja Viesti ry:n Timanttista urapuhetta -tapahtumaan! Tule inspiroitumaan viestinnän ammattilaisten uratarinoista ja saamaan timanttisimmat vinkit oman osaamisen sanoittamiseen. \nMitä: Timanttista urapuhetta – luvassa uratarinoita ja vinkkejä oman osaamisen sanoittamiseen Missä: Viestin toimistolla Helsingin Kruununhaassa osoitteessa Snellmaninkatu 19–21 F 13.Milloin: Keskiviikkona 13.5.2026 klo 16.30–19.00Kenelle: Alan opiskelijoille ja alasta kiinnostuneille opiskelijoille\n \nOhjelma\nTervetulosanat ja ajankohtaiskatsaus viestinnän alaan / Emma Koponen\, Viesti ry\nUrapuheenvuoro / Noora Hakulinen\, Viestin opiskelijaedustaja ja poliittisen viestinnän suunnittelija\nUrapuheenvuoro / Janina Paananen\, Communications & Marketing Strategist\, Gofore\nOman osaamisen sanoittamisen työpaja\nTapahtumassa tarjoillaan pientä purtavaa ja tilaisuuden jälkeen on mahdollisuus jatkaa omakustanteisille afterworkeille.\n \nIlmoittautuminen\nTapahtumaan voi ilmoittautua alla olevasta painikkeesta. Ilmoittautuminen päättyy 6.5.2026.\nOsallistumismaksu tapahtumaan on 5 €. \nIlmoittaudu\nHalutessassi voit tutustua Ydinviesti ry:n ja Viesti ry:n tietosuojaselosteisiin.
LOCATION:Viestin toimisto\, Snellmaninkatu 19–21 F 13\, 00170\,
 Helsinki\, Suomi
URL:http://tapahtumat.viesti.fi/event/9lqNz
END:VEVENT
END:VCALENDAR
