BEGIN:VCALENDAR
METHOD:PUBLISH
VERSION:2.0
PRODID:-//Eventilla iCal Syndication//NONSGML Liana//EN
BEGIN:VEVENT
UID:8a05b@eventilla.com
DTSTAMP:20241015T094500Z
DTSTART:20241015T094500Z
DTEND:20241015T113000Z
SUMMARY:Viestin vierailu eduskuntaan
DESCRIPTION:Tervetuloa Viestin vierailulle eduskuntaan!\n \nOletko aina halunnut tietää\, miltä Eduskuntatalo näyttää tai millaista on eduskunnan viestintä? \nToiveisiisi on vastattu\, sillä Viesti vierailee jäsentensä kanssa eduskunnassa 15. lokakuuta. Mukaan mahtuu 25 nopeinta Viestin jäsentä.\nVierailun päätteeksi on mahdollista jäädä seuraamaan lehterille eduskunnan istuntoa.\n \nMilloin: Ti 15.10.2024 klo 12.45–14.30\nMissä: Eduskuntatalo. Sisääntulo B-ovesta.\n \nIlmoittautuminen\n \nTämä vierailu on avoin ja maksuton kaikille Viestin jäsenille.\nMukaan mahtuu 25 nopeinta.\nJos et ole jäsen\, liity tästä. \nPääset ilmoittautumaan mukaan tämän sivun alalaidasta. Ilmoittautuminen päättyy kaksi viikkoa ennen tapahtumaa 30.9. klo 23.59. Ilmoittautumisen päätyttyä voit tiedustella mahdollisia vapaita paikkoja osoitteesta toimisto@viesti.fi.\n \nMuista peruuttaa paikkasi ajoissa\nJos et pääsekään paikalle\, peruutathan paikkasi hyvissä ajoin\, niin mahdolliset jonottajat pääset tilallesi.\n \nJos tapahtuma on täynnä\, voit ilmoittautua jonotuslistalle\nJos tapahtuma ehtii mennä täyteen\, kannattaa ilmoittautua jonotuslistalle\, sillä livepaikkoja saattaa vapautua viime hetkillä ennen tapahtumaa.\n \nKysyttävää?\nOta yhteyttä Viestin toimistoon toimisto@viesti.fi.
LOCATION:Eduskuntatalo, sisääntulo pohjoispäädystä, B-ovesta\,
 Mannerheimintie 30\, 00100\, Helsinki
URL:http://tapahtumat.viesti.fi/viesti-vierailee-eduskunta
END:VEVENT
END:VCALENDAR
